BEGIN:VCALENDAR
VERSION:2.0
PRODID:-//Upplýsing - ECPv6.15.20//NONSGML v1.0//EN
CALSCALE:GREGORIAN
METHOD:PUBLISH
X-WR-CALNAME:Upplýsing
X-ORIGINAL-URL:https://upplysing.is
X-WR-CALDESC:Events for Upplýsing
REFRESH-INTERVAL;VALUE=DURATION:PT1H
X-Robots-Tag:noindex
X-PUBLISHED-TTL:PT1H
BEGIN:VTIMEZONE
TZID:UTC
BEGIN:STANDARD
TZOFFSETFROM:+0000
TZOFFSETTO:+0000
TZNAME:UTC
DTSTART:20240101T000000
END:STANDARD
END:VTIMEZONE
BEGIN:VEVENT
DTSTART;TZID=UTC:20250908T084500
DTEND;TZID=UTC:20250908T100000
DTSTAMP:20260419T155834
CREATED:20250904T122336Z
LAST-MODIFIED:20250904T123119Z
UID:5972-1757321100-1757325600@upplysing.is
SUMMARY:Bókasafnsdagurinn 2025 | Lestur er bestur - fyrir sálina
DESCRIPTION:Að venju verður haldið sérstakt Morgunkorn að morgni Bókasafnsdagsins þar sem félagsmenn Upplýsingar og starfsmenn bókasafna koma saman og halda upp á Bókasafnsdaginn\, þiggja veitingar og hlusta á erindi í tilefni dagsins. \nVið hefjum gleðina á morgunkaffi kl. 8:45 en dagskráin hefst 9:00. \nStaður: Bókasafn Mosfellsbæjar \n08:45 – Húsið opnar/morgunmatur \n8:55/9:00 –Formaður Upplýsingar kynnir \n9:00-9:30 – Eva Rún Þorgeirsdóttir flytur erindi tengt þema dagsins \n9:30 – Afhending Hvatningarverðlauna Upplýsingar 2025 \nMorgunkorninu verður streymt á YouTube-rás Upplýsingar. \n 
URL:https://upplysing.is/vidburdur/bokasafnsdagurinn-2025-lestur-er-bestur-fyrir-salina/
LOCATION:Bókasafn Mosfellsbæjar\, Þverholti 2\, Mosfellsbæ\, 300\, Iceland
CATEGORIES:Fræðsla,Morgunkorn
ATTACH;FMTTYPE=image/jpeg:https://upplysing.is/wp-content/uploads/2025/09/2025thumb.jpg
END:VEVENT
END:VCALENDAR